BEGIN:VCALENDAR
VERSION:2.0
PRODID:-//Lake Michigan Estate Planning Council - ECPv6.8.1//NONSGML v1.0//EN
CALSCALE:GREGORIAN
METHOD:PUBLISH
X-WR-CALNAME:Lake Michigan Estate Planning Council
X-ORIGINAL-URL:https://lmepc.org
X-WR-CALDESC:Events for Lake Michigan Estate Planning Council
REFRESH-INTERVAL;VALUE=DURATION:PT1H
X-Robots-Tag:noindex
X-PUBLISHED-TTL:PT1H
BEGIN:VTIMEZONE
TZID:America/Detroit
BEGIN:DAYLIGHT
TZOFFSETFROM:-0500
TZOFFSETTO:-0400
TZNAME:EDT
DTSTART:20240310T070000
END:DAYLIGHT
BEGIN:STANDARD
TZOFFSETFROM:-0400
TZOFFSETTO:-0500
TZNAME:EST
DTSTART:20241103T060000
END:STANDARD
BEGIN:DAYLIGHT
TZOFFSETFROM:-0500
TZOFFSETTO:-0400
TZNAME:EDT
DTSTART:20250309T070000
END:DAYLIGHT
BEGIN:STANDARD
TZOFFSETFROM:-0400
TZOFFSETTO:-0500
TZNAME:EST
DTSTART:20251102T060000
END:STANDARD
END:VTIMEZONE
BEGIN:VEVENT
DTSTART;TZID=America/Detroit:20240514T113000
DTEND;TZID=America/Detroit:20240514T130000
DTSTAMP:20260421T072214
CREATED:20240424T193050Z
LAST-MODIFIED:20240425T150949Z
UID:3612-1715686200-1715691600@lmepc.org
SUMMARY:New Legislation Discussion: Uniform Power of Attorney Act
DESCRIPTION:Merica S. Dobry & Catherine H. Jacobs of Warner Norcross + Judd LLP will discuss the new legislation adopting the Uniform Power of Attorney Act\, and the ins and outs of the statutory form\, protections offered to MI residents and the nuances of using the statutory form versus custom documents.  We will also talk about using powers of attorney with financial institutions and using these documents to avoid the need for a guardian or conservator. \nAdditionally\, Mike Bradley from Gielow Groom Terpstra & McEvoy will bring us up to date on the changes to the Corporate Transparency Act. \nPlease email any advance questions you may have to: Maureen@myfocusfinancial.com. Please put “LMEPC” in the subject line. Additional questions after the presentation are also encouraged. \nYou can pay online at the “Pay Lunch Reservation” button at the bottom of this page. \nIf you’d like to pay by mail\, please mail a check (payable to LMEPC) to:\nKathy Byma\nNovotny CPA Group\n800 E. Ellis Road\, #584\nNorton Shores\, MI 49441 \nTo track our headcount\, please email Maureen@myfocusfinancial.com with the names of any guests.
URL:https://lmepc.org/event/new-legislation-discussion-uniform-power-of-attorney-act/
LOCATION:Terrace Point\, 709 Terrace Point Road\, Ste. 200\, Muskegon\, MI\, 49440\, United States
ATTACH;FMTTYPE=image/jpeg:https://lmepc.org/wp-content/uploads/2020/01/overlayimg-1.jpg
END:VEVENT
BEGIN:VEVENT
DTSTART;TZID=America/Detroit:20241009T073000
DTEND;TZID=America/Detroit:20241009T090000
DTSTAMP:20260421T072214
CREATED:20240911T192241Z
LAST-MODIFIED:20240911T192241Z
UID:3670-1728459000-1728464400@lmepc.org
SUMMARY:Estate Tax Sunset
DESCRIPTION:Join us as we hear from Kayla Kolbe from Parmenter Law and Todd Rohrback & Adriane Schrauben from Hungerford Advisors as they discuss the upcoming sunsetting of the current estate tax law at the end of 2025.
URL:https://lmepc.org/event/estate-tax-sunset/
LOCATION:Frauenthal Center\, 427 W. Western Ave\, Muskegon\, MI\, 49440\, United States
ATTACH;FMTTYPE=image/jpeg:https://lmepc.org/wp-content/uploads/2024/09/Pamona-Park-sunset-scaled.jpg
END:VEVENT
BEGIN:VEVENT
DTSTART;TZID=America/Detroit:20250218T113000
DTEND;TZID=America/Detroit:20250218T130000
DTSTAMP:20260421T072214
CREATED:20250114T202446Z
LAST-MODIFIED:20250114T202644Z
UID:3716-1739878200-1739883600@lmepc.org
SUMMARY:Prenups & Postnups - Do They Even Matter?
DESCRIPTION:Shon Cook has a passion for supporting people through the toughest of times. For 30 years\, she has been representing individuals in nearly every area of the law. Shon presently focuses on family law issues\, including divorce\, custody\, parenting time\, child support\, spousal support\, guardianships\, adoption\, and prenuptial/postnuptial agreements. She is the founder and CEO of Tabono Law\, a firm representing four core values: strength\, confidence\, hard work\, and unity of purpose. Shon is not only sought after by her clients\, but is frequently a speaker on legal issues for the State Bar of Michigan and the Institute of Continuing Legal Education. She helps to train lawyers and Judges throughout the state on vital issues affecting families. \nJoin Shon Cook\, Managing Attorney and CEO of Tabono Law and peers of the Lake Mi Estate Planning Council for lunch to hear about this topic that touches all of our lives. \nOnline payment available below at the “Pay Lunch Reservation”. If paying by mail\, please include your name with $25 (payable to LMEPC) to Kathy Byma -Novotny CPA Group- 800 E Ellis Rd. #584 – Norton Shores\, MI 49441. Payment is available at the door as well – email Maureen at maureen.brading@lpl.com to reserve your spot!
URL:https://lmepc.org/event/prenups-postnups-do-they-even-matter/
LOCATION:Spring Lake District Library\, 123 E Exchange St\, Spring Lake\, MI\, 49456
ATTACH;FMTTYPE=image/jpeg:https://lmepc.org/wp-content/uploads/2020/01/zoriana-stakhniv-PUVgHyBgZn8-unsplash-scaled.jpg
END:VEVENT
END:VCALENDAR